BEGIN:VCALENDAR
VERSION:2.0
PRODID:-//Wild Book Company - ECPv6.15.20//NONSGML v1.0//EN
CALSCALE:GREGORIAN
METHOD:PUBLISH
X-ORIGINAL-URL:https://wildbookcompany.com
X-WR-CALDESC:Events for Wild Book Company
REFRESH-INTERVAL;VALUE=DURATION:PT1H
X-Robots-Tag:noindex
X-PUBLISHED-TTL:PT1H
BEGIN:VTIMEZONE
TZID:America/Halifax
BEGIN:DAYLIGHT
TZOFFSETFROM:-0400
TZOFFSETTO:-0300
TZNAME:ADT
DTSTART:20240310T060000
END:DAYLIGHT
BEGIN:STANDARD
TZOFFSETFROM:-0300
TZOFFSETTO:-0400
TZNAME:AST
DTSTART:20241103T050000
END:STANDARD
BEGIN:DAYLIGHT
TZOFFSETFROM:-0400
TZOFFSETTO:-0300
TZNAME:ADT
DTSTART:20250309T060000
END:DAYLIGHT
BEGIN:STANDARD
TZOFFSETFROM:-0300
TZOFFSETTO:-0400
TZNAME:AST
DTSTART:20251102T050000
END:STANDARD
BEGIN:DAYLIGHT
TZOFFSETFROM:-0400
TZOFFSETTO:-0300
TZNAME:ADT
DTSTART:20260308T060000
END:DAYLIGHT
BEGIN:STANDARD
TZOFFSETFROM:-0300
TZOFFSETTO:-0400
TZNAME:AST
DTSTART:20261101T050000
END:STANDARD
END:VTIMEZONE
BEGIN:VEVENT
DTSTART;TZID=America/Halifax:20251020T170000
DTEND;TZID=America/Halifax:20251020T181500
DTSTAMP:20260423T144055
CREATED:20250707T220844Z
LAST-MODIFIED:20250911T184753Z
UID:2022-1760979600-1760984100@wildbookcompany.com
SUMMARY:Short Story Book Club - Reading Across the Continents
DESCRIPTION:This season we are Reading Across the Continents with stories from each of the seven continents. Please email wildbookcompany@gmail.com if you are interested in joining us!
URL:https://wildbookcompany.com/event/short-story-book-club-reading-across-the-continents-october-20-2025/
LOCATION:Wild Book Company\, 47 West St\, Newfane\, VT\, 05345
CATEGORIES:Book Club
ATTACH;FMTTYPE=image/webp:https://wildbookcompany.com/wp-content/uploads/2024/08/short-story-book-club-02.webp
ORGANIZER;CN="Wild Book Company":MAILTO:wildbookcompany@gmail.com
END:VEVENT
BEGIN:VEVENT
DTSTART;TZID=America/Halifax:20251006T170000
DTEND;TZID=America/Halifax:20251006T181500
DTSTAMP:20260423T144055
CREATED:20250707T220734Z
LAST-MODIFIED:20250911T185239Z
UID:2020-1759770000-1759774500@wildbookcompany.com
SUMMARY:Short Story Book Club - Reading Across the Continents
DESCRIPTION:This season we are Reading Across the Continents with stories from each of the seven continents. Please email wildbookcompany@gmail.com if you are interested in joining us!
URL:https://wildbookcompany.com/event/short-story-book-club-reading-across-the-continents-october-6-2025/
LOCATION:Wild Book Company\, 47 West St\, Newfane\, VT\, 05345
CATEGORIES:Book Club
ATTACH;FMTTYPE=image/webp:https://wildbookcompany.com/wp-content/uploads/2024/08/short-story-book-club-02.webp
ORGANIZER;CN="Wild Book Company":MAILTO:wildbookcompany@gmail.com
END:VEVENT
BEGIN:VEVENT
DTSTART;TZID=America/Halifax:20250922T170000
DTEND;TZID=America/Halifax:20250922T181500
DTSTAMP:20260423T144055
CREATED:20250707T215932Z
LAST-MODIFIED:20250911T185345Z
UID:2018-1758560400-1758564900@wildbookcompany.com
SUMMARY:Short Story Book Club - Reading Across the Continents
DESCRIPTION:This season we are Reading Across the Continents with stories from each of the seven continents. Please email wildbookcompany@gmail.com if you are interested in joining us!
URL:https://wildbookcompany.com/event/short-story-book-club-reading-across-the-continents-september-22-2025/
LOCATION:Wild Book Company\, 47 West St\, Newfane\, VT\, 05345
CATEGORIES:Book Club
ATTACH;FMTTYPE=image/webp:https://wildbookcompany.com/wp-content/uploads/2024/08/short-story-book-club-02.webp
ORGANIZER;CN="Wild Book Company":MAILTO:wildbookcompany@gmail.com
END:VEVENT
BEGIN:VEVENT
DTSTART;TZID=America/Halifax:20250915T180000
DTEND;TZID=America/Halifax:20250915T193000
DTSTAMP:20260423T144055
CREATED:20250911T195011Z
LAST-MODIFIED:20250911T195115Z
UID:2045-1757959200-1757964600@wildbookcompany.com
SUMMARY:Silent Book Club
DESCRIPTION:Hosted by the Silent Book Club of Windham County \nBring your choice of reading material in any format and reading accessories (booklight\, headphones\, etc.) and snacks and drinks if you’d like\, and enjoy the bookstore space for an evening of silent reading 🙂 We will have 30 minutes or so to settle in\, mingle\, and browse the bookstore collection (plus get 20% off any purchases!) followed by dedicated silent reading time. \n 
URL:https://wildbookcompany.com/event/silent-book-club/
LOCATION:Wild Book Company\, 47 West St\, Newfane\, VT\, 05345
CATEGORIES:Book Club
ATTACH;FMTTYPE=image/webp:https://wildbookcompany.com/wp-content/uploads/2025/09/Silent-Book-Club-of-Windham-County-Sept-15.webp
END:VEVENT
BEGIN:VEVENT
DTSTART;TZID=America/Halifax:20250908T170000
DTEND;TZID=America/Halifax:20250908T181500
DTSTAMP:20260423T144055
CREATED:20250707T215821Z
LAST-MODIFIED:20250911T185456Z
UID:2016-1757350800-1757355300@wildbookcompany.com
SUMMARY:Short Story Book Club - Reading Across the Continents
DESCRIPTION:This season we are Reading Across the Continents with stories from each of the seven continents. Please email wildbookcompany@gmail.com if you are interested in joining us!
URL:https://wildbookcompany.com/event/short-story-book-club-reading-across-the-continents-september-8-2025/
LOCATION:Wild Book Company\, 47 West St\, Newfane\, VT\, 05345
CATEGORIES:Book Club
ATTACH;FMTTYPE=image/webp:https://wildbookcompany.com/wp-content/uploads/2024/08/short-story-book-club-02.webp
ORGANIZER;CN="Wild Book Company":MAILTO:wildbookcompany@gmail.com
END:VEVENT
END:VCALENDAR